Workbook

Sheet Testing Calculator
B1: Row/Run Testing Calculator | F1: *this was set up with 40% average needed and a minimum of 6% on each test
B3: Enter Age | E3: Age group (run) | F3: =IF(C3="", "",IF(C3<=24,"20-24",IF(C3<=29,"25-29",IF(C3<=34,"30-34",IF(C3<=39,"35-39",IF(C3<=44,"40-44",IF(C3<=49,"45-49","50+")))))))
B4: Enter Gender | E4: Age group (row) | F4: =IF(C3="","",IF(C3<=29,"20-29",IF(C3<=39,"30-39",IF(C3<=49,"40-49","50+"))))
B6: Enter Row Time: | C6: =IF(C7="", "Please enter row time","") -> Please enter row time | G6: =IF(AND(C3="", C4=""),"Please enter age and gender above",IF(C4="","Please enter gender above",IF(C3="","Please enter age above",""))) -> Please enter age and gender above
B7: Row Time (minutes:seconds) | E7: Row time percentile | F7: {=IF(OR(C7="", C4="",F4=""),"",IFERROR(INDEX('Data Tables'!F2:'Data Tables'!I806, MATCH(1, (C4='Data Tables'!G2:G806)*(F4='Data Tables'!F2:F806)*(_xlfn.NUMBERVALUE(C7)<=_xlfn.NUMBERVALUE('Data Tables'!I2:I806)),0),3), "Error! Make sure time is entered as mm:ss"))} | G7: =IF(F7<0.06, "Row time does not meet minimum standard", "")
B8: Run Time needed to pass | C8: {=IF(F7="", "", IF(F8="Error! Make sure time is entered as mm:ss", "",INDEX('Data Tables'!A2:D1450, MATCH(1, (C4='Data Tables'!B2:B1450)*(F3='Data Tables'!A2:A1450)*(F8='Data Tables'!C2:C1450),0),4)))} | E8: Run percentile needed | F8: =IF(F7="","",IF(F7="Error! Make sure time is entered as mm:ss","Error! Make sure time is entered as mm:ss",IF(ROUND(0.8-F7,2)<0.06,0.06,ROUND(0.8-F7,2))))
B10: Enter Run Time: | C10: =IF(C11="", "Please enter run time","") -> Please enter run time | G10: =IF(AND(C3="", C4=""),"Please enter age and gender above",IF(C4="","Please enter gender above",IF(C3="","Please enter age above",""))) -> Please enter age and gender above
B11: Run Time (minutes:seconds) | E11: Run time percentile | F11: {=IF(OR(C11="",C4="",F3=""),"",IFERROR(INDEX('Data Tables'!A2:D1450,MATCH(1,(C4='Data Tables'!B2:B1450)*(F3='Data Tables'!A2:A1450)*(_xlfn.NUMBERVALUE(C11)<=_xlfn.NUMBERVALUE('Data Tables'!D2:D1450)),0),3),"Error! Make sure time is entered as mm:ss"))} | G11: =IF(F11<0.06, "Run time does not meet minimum standard", "")
B12: Row Time needed to pass | C12: {=IF(F12="", "", IF(F12="Error! Make sure time is entered as mm:ss", "", INDEX('Data Tables'!F2:I806, MATCH(1, (C4='Data Tables'!G2:G806)*(F4='Data Tables'!F2:F806)*(F12='Data Tables'!H2:H806),0),4)))} | E12: Row percentile needed | F12: =IF(F11="", "", IF(F11="Error! Make sure time is entered as mm:ss", "Error! Make sure time is entered as mm:ss", IF(ROUND(0.8-F11, 2)<0.06, 0.06, ROUND(0.8-F11,2))))
B14: Enter Row and Run Time: | G14: =IF(AND(C3="", C4=""),"Please enter age and gender above",IF(C4="","Please enter gender above",IF(C3="","Please enter age above",""))) -> Please enter age and gender above
B15: Row Time (minutes:seconds) | E15: Row time percentile | F15: {=IF(OR(C15="",C4="",F4=""),"",IFERROR(INDEX('Data Tables'!F2:'Data Tables'!I806, MATCH(1, (C4='Data Tables'!G2:G806)*(F4='Data Tables'!F2:F806)*(_xlfn.NUMBERVALUE(C15)<=_xlfn.NUMBERVALUE('Data Tables'!I2:I806)),0),3),0))} | G15: {=IF(OR(F4="",C4=""),"",IF(C15="","Please enter row time",IF(IFERROR(INDEX('Data Tables'!F2:I806,MATCH(1,(C4='Data Tables'!G2:G806)*(F4='Data Tables'!F2:F806)*(_xlfn.NUMBERVALUE(C15)<=_xlfn.NUMBERVALUE('Data Tables'!I2:I806)),0),3),"x")="x","Error! Make sure time is entered as mm:ss","")))}
B16: Run Time (minutes:seconds) | E16: Run time percentile | F16: {=IF(OR(C16="",C4="",F3=""),"",IFERROR(INDEX('Data Tables'!A2:D1450,MATCH(1,(C4='Data Tables'!B2:B1450)*(F3='Data Tables'!A2:A1450)*(_xlfn.NUMBERVALUE(C16)<=_xlfn.NUMBERVALUE('Data Tables'!D2:D1450)),0),3),0))} | G16: {=IF(OR(F3="",C4=""),"",IF(C16="","Please enter run time",IF(IFERROR(INDEX('Data Tables'!A2:D1388,MATCH(1,(C4='Data Tables'!B2:B1388)*(F3='Data Tables'!A2:A1388)*(_xlfn.NUMBERVALUE(C16)<=_xlfn.NUMBERVALUE('Data Tables'!D2:D1388)),0),3),"x")="x","Error! Make sure time is entered as mm:ss","")))}
E17: Combined Average | F17: =IF(OR(C15="",C16="", C4="",C3=""), "",(F16+F15)/2) | G17: =IF(F17="", "", IF(AND(F17>=0.4, F16>= 0.06,F15>= 0.06), "Pass!", "Fail :("))
G18: =IF(AND(C3="", C4=""),"Please enter age and gender above",IF(C4="","Please enter gender above",IF(C3="","Please enter age above",""))) -> Please enter age and gender above
B19: Row Time percentile | E19: Row Time | F19: {=IFERROR(IF(C19="", "",INDEX('Data Tables'!F2:I806, MATCH(1, (C4='Data Tables'!G2:G806)*(F4='Data Tables'!F2:F806)*(C19='Data Tables'!H2:H806),0),4)), "")} | G19: {=IF(OR(F3="",C4=""),"",IF(C19="", "", IF(IFERROR(INDEX('Data Tables'!F2:I806,MATCH(1,(C4='Data Tables'!G2:G806)*(F4='Data Tables'!F2:F806)*(C19='Data Tables'!H2:H806),0),4),"x")="x", "Error! Please enter a percentage between 1% and 99%", "")))}
B20: Run Time percentile | E20: Run Time | F20: {=IFERROR(IF(C20="","",INDEX('Data Tables'!A2:D1450,MATCH(1,(C4='Data Tables'!B2:B1450)*(F3='Data Tables'!A2:A1450)*(C20='Data Tables'!C2:C1450),0),4)), "")} | G20: {=IF(OR(F3="",C4=""),"",IF(C20="", "", IF(IFERROR(INDEX('Data Tables'!A2:D1450,MATCH(1,(C4='Data Tables'!B2:B1450)*(F3='Data Tables'!A2:A1450)*(C20='Data Tables'!C2:C1450),0),4), "x")="x", "Error! Please enter a percentage between 1% and 99%", "")))}

Sheet Testing Table
A1: Name | B1: Gender | C1: Age | D1: Row Time | E1: Run Time | F1: Row Percentile | G1: Run Percentile | H1: Average | I1: Pass/Fail | J1: Row Age Group | K1: Run Age Group
F2: {=IF(OR(B2="", C2="", D2=""),"",IFERROR(INDEX('Data Tables'!F2:'Data Tables'!I806, MATCH(1, (B2='Data Tables'!G2:G806)*(J2='Data Tables'!F2:F806)*(_xlfn.NUMBERVALUE(D2)<=_xlfn.NUMBERVALUE('Data Tables'!I2:I806)),0),3), "Error!"))} | G2: {=IF(OR(B2="",C2="", E2=""),"",IFERROR(INDEX('Data Tables'!A2:D1450,MATCH(1,(B2='Data Tables'!B2:B1450)*(K2='Data Tables'!A2:A1450)*(_xlfn.NUMBERVALUE(E2)<=_xlfn.NUMBERVALUE('Data Tables'!D2:D1450)),0),3),"Error!"))} | H2: =IF(OR(F2="Error!",G2="Error!"),"",IF(OR(B2="",C2="",D2="",E2=""),"",(F2+G2)/2)) | I2: =IF(H2="", "", IF(AND(H2>=0.4, F2>= 0.06,G2>= 0.06), "Pass!", "Fail :(")) | J2: =IF(C2="","",IF(C2<=29,"20-29",IF(C2<=39,"30-39",IF(C2<=49,"40-49","50+")))) | K2: =IF(C2="", "",IF(C2<=24,"20-24",IF(C2<=29,"25-29",IF(C2<=34,"30-34",IF(C2<=39,"35-39",IF(C2<=44,"40-44",IF(C2<=49,"45-49","50+"))))))) | L2: =IFERROR(IF(AND(H2>=0.4,F2>=0.06,G2>=0.06),"",IF(AND(F2<0.06, G2>=0.06),"Does not meet minimum row standard",IF(AND(G2<0.06, F2>=0.06),"Does not meet minimum run standard",IF(AND(F2<0.06, G2<0.06), "Does not meet minimum standard", "Does not meet minimum average")))), "")
F3: {=IF(OR(B3="", C3="", D3=""),"",IFERROR(INDEX('Data Tables'!F3:'Data Tables'!I807, MATCH(1, (B3='Data Tables'!G3:G807)*(J3='Data Tables'!F3:F807)*(_xlfn.NUMBERVALUE(D3)<=_xlfn.NUMBERVALUE('Data Tables'!I3:I807)),0),3), "Error!"))} | G3: {=IF(OR(B3="",C3="", E3=""),"",IFERROR(INDEX('Data Tables'!A3:D1451,MATCH(1,(B3='Data Tables'!B3:B1451)*(K3='Data Tables'!A3:A1451)*(_xlfn.NUMBERVALUE(E3)<=_xlfn.NUMBERVALUE('Data Tables'!D3:D1451)),0),3),"Error!"))} | H3: =IF(OR(F3="Error!",G3="Error!"),"",IF(OR(B3="",C3="",D3="",E3=""),"",(F3+G3)/2)) | I3: =IF(H3="", "", IF(AND(H3>=0.4, F3>= 0.06,G3>= 0.06), "Pass!", "Fail :(")) | J3: =IF(C3="","",IF(C3<=29,"20-29",IF(C3<=39,"30-39",IF(C3<=49,"40-49","50+")))) | K3: =IF(C3="", "",IF(C3<=24,"20-24",IF(C3<=29,"25-29",IF(C3<=34,"30-34",IF(C3<=39,"35-39",IF(C3<=44,"40-44",IF(C3<=49,"45-49","50+"))))))) | L3: =IFERROR(IF(AND(H3>=0.4,F3>=0.06,G3>=0.06),"",IF(AND(F3<0.06, G3>=0.06),"Does not meet minimum row standard",IF(AND(G3<0.06, F3>=0.06),"Does not meet minimum run standard",IF(AND(F3<0.06, G3<0.06), "Does not meet minimum standard", "Does not meet minimum average")))), "")
F4: {=IF(OR(B4="", C4="", D4=""),"",IFERROR(INDEX('Data Tables'!F4:'Data Tables'!I808, MATCH(1, (B4='Data Tables'!G4:G808)*(J4='Data Tables'!F4:F808)*(_xlfn.NUMBERVALUE(D4)<=_xlfn.NUMBERVALUE('Data Tables'!I4:I808)),0),3), "Error!"))} | G4: {=IF(OR(B4="",C4="", E4=""),"",IFERROR(INDEX('Data Tables'!A4:D1452,MATCH(1,(B4='Data Tables'!B4:B1452)*(K4='Data Tables'!A4:A1452)*(_xlfn.NUMBERVALUE(E4)<=_xlfn.NUMBERVALUE('Data Tables'!D4:D1452)),0),3),"Error!"))} | H4: =IF(OR(F4="Error!",G4="Error!"),"",IF(OR(B4="",C4="",D4="",E4=""),"",(F4+G4)/2)) | I4: =IF(H4="", "", IF(AND(H4>=0.4, F4>= 0.06,G4>= 0.06), "Pass!", "Fail :(")) | J4: =IF(C4="","",IF(C4<=29,"20-29",IF(C4<=39,"30-39",IF(C4<=49,"40-49","50+")))) | K4: =IF(C4="", "",IF(C4<=24,"20-24",IF(C4<=29,"25-29",IF(C4<=34,"30-34",IF(C4<=39,"35-39",IF(C4<=44,"40-44",IF(C4<=49,"45-49","50+"))))))) | L4: =IFERROR(IF(AND(H4>=0.4,F4>=0.06,G4>=0.06),"",IF(AND(F4<0.06, G4>=0.06),"Does not meet minimum row standard",IF(AND(G4<0.06, F4>=0.06),"Does not meet minimum run standard",IF(AND(F4<0.06, G4<0.06), "Does not meet minimum standard", "Does not meet minimum average")))), "")
F5: {=IF(OR(B5="", C5="", D5=""),"",IFERROR(INDEX('Data Tables'!F5:'Data Tables'!I809, MATCH(1, (B5='Data Tables'!G5:G809)*(J5='Data Tables'!F5:F809)*(_xlfn.NUMBERVALUE(D5)<=_xlfn.NUMBERVALUE('Data Tables'!I5:I809)),0),3), "Error!"))} | G5: {=IF(OR(B5="",C5="", E5=""),"",IFERROR(INDEX('Data Tables'!A5:D1453,MATCH(1,(B5='Data Tables'!B5:B1453)*(K5='Data Tables'!A5:A1453)*(_xlfn.NUMBERVALUE(E5)<=_xlfn.NUMBERVALUE('Data Tables'!D5:D1453)),0),3),"Error!"))} | H5: =IF(OR(F5="Error!",G5="Error!"),"",IF(OR(B5="",C5="",D5="",E5=""),"",(F5+G5)/2)) | I5: =IF(H5="", "", IF(AND(H5>=0.4, F5>= 0.06,G5>= 0.06), "Pass!", "Fail :(")) | J5: =IF(C5="","",IF(C5<=29,"20-29",IF(C5<=39,"30-39",IF(C5<=49,"40-49","50+")))) | K5: =IF(C5="", "",IF(C5<=24,"20-24",IF(C5<=29,"25-29",IF(C5<=34,"30-34",IF(C5<=39,"35-39",IF(C5<=44,"40-44",IF(C5<=49,"45-49","50+"))))))) | L5: =IFERROR(IF(AND(H5>=0.4,F5>=0.06,G5>=0.06),"",IF(AND(F5<0.06, G5>=0.06),"Does not meet minimum row standard",IF(AND(G5<0.06, F5>=0.06),"Does not meet minimum run standard",IF(AND(F5<0.06, G5<0.06), "Does not meet minimum standard", "Does not meet minimum average")))), "")
F6: {=IF(OR(B6="", C6="", D6=""),"",IFERROR(INDEX('Data Tables'!F6:'Data Tables'!I810, MATCH(1, (B6='Data Tables'!G6:G810)*(J6='Data Tables'!F6:F810)*(_xlfn.NUMBERVALUE(D6)<=_xlfn.NUMBERVALUE('Data Tables'!I6:I810)),0),3), "Error!"))} | G6: {=IF(OR(B6="",C6="", E6=""),"",IFERROR(INDEX('Data Tables'!A6:D1454,MATCH(1,(B6='Data Tables'!B6:B1454)*(K6='Data Tables'!A6:A1454)*(_xlfn.NUMBERVALUE(E6)<=_xlfn.NUMBERVALUE('Data Tables'!D6:D1454)),0),3),"Error!"))} | H6: =IF(OR(F6="Error!",G6="Error!"),"",IF(OR(B6="",C6="",D6="",E6=""),"",(F6+G6)/2)) | I6: =IF(H6="", "", IF(AND(H6>=0.4, F6>= 0.06,G6>= 0.06), "Pass!", "Fail :(")) | J6: =IF(C6="","",IF(C6<=29,"20-29",IF(C6<=39,"30-39",IF(C6<=49,"40-49","50+")))) | K6: =IF(C6="", "",IF(C6<=24,"20-24",IF(C6<=29,"25-29",IF(C6<=34,"30-34",IF(C6<=39,"35-39",IF(C6<=44,"40-44",IF(C6<=49,"45-49","50+"))))))) | L6: =IFERROR(IF(AND(H6>=0.4,F6>=0.06,G6>=0.06),"",IF(AND(F6<0.06, G6>=0.06),"Does not meet minimum row standard",IF(AND(G6<0.06, F6>=0.06),"Does not meet minimum run standard",IF(AND(F6<0.06, G6<0.06), "Does not meet minimum standard", "Does not meet minimum average")))), "")
F7: {=IF(OR(B7="", C7="", D7=""),"",IFERROR(INDEX('Data Tables'!F7:'Data Tables'!I811, MATCH(1, (B7='Data Tables'!G7:G811)*(J7='Data Tables'!F7:F811)*(_xlfn.NUMBERVALUE(D7)<=_xlfn.NUMBERVALUE('Data Tables'!I7:I811)),0),3), "Error!"))} | G7: {=IF(OR(B7="",C7="", E7=""),"",IFERROR(INDEX('Data Tables'!A7:D1455,MATCH(1,(B7='Data Tables'!B7:B1455)*(K7='Data Tables'!A7:A1455)*(_xlfn.NUMBERVALUE(E7)<=_xlfn.NUMBERVALUE('Data Tables'!D7:D1455)),0),3),"Error!"))} | H7: =IF(OR(F7="Error!",G7="Error!"),"",IF(OR(B7="",C7="",D7="",E7=""),"",(F7+G7)/2)) | I7: =IF(H7="", "", IF(AND(H7>=0.4, F7>= 0.06,G7>= 0.06), "Pass!", "Fail :(")) | J7: =IF(C7="","",IF(C7<=29,"20-29",IF(C7<=39,"30-39",IF(C7<=49,"40-49","50+")))) | K7: =IF(C7="", "",IF(C7<=24,"20-24",IF(C7<=29,"25-29",IF(C7<=34,"30-34",IF(C7<=39,"35-39",IF(C7<=44,"40-44",IF(C7<=49,"45-49","50+"))))))) | L7: =IFERROR(IF(AND(H7>=0.4,F7>=0.06,G7>=0.06),"",IF(AND(F7<0.06, G7>=0.06),"Does not meet minimum row standard",IF(AND(G7<0.06, F7>=0.06),"Does not meet minimum run standard",IF(AND(F7<0.06, G7<0.06), "Does not meet minimum standard", "Does not meet minimum average")))), "")
F8: {=IF(OR(B8="", C8="", D8=""),"",IFERROR(INDEX('Data Tables'!F8:'Data Tables'!I812, MATCH(1, (B8='Data Tables'!G8:G812)*(J8='Data Tables'!F8:F812)*(_xlfn.NUMBERVALUE(D8)<=_xlfn.NUMBERVALUE('Data Tables'!I8:I812)),0),3), "Error!"))} | G8: {=IF(OR(B8="",C8="", E8=""),"",IFERROR(INDEX('Data Tables'!A8:D1456,MATCH(1,(B8='Data Tables'!B8:B1456)*(K8='Data Tables'!A8:A1456)*(_xlfn.NUMBERVALUE(E8)<=_xlfn.NUMBERVALUE('Data Tables'!D8:D1456)),0),3),"Error!"))} | H8: =IF(OR(F8="Error!",G8="Error!"),"",IF(OR(B8="",C8="",D8="",E8=""),"",(F8+G8)/2)) | I8: =IF(H8="", "", IF(AND(H8>=0.4, F8>= 0.06,G8>= 0.06), "Pass!", "Fail :(")) | J8: =IF(C8="","",IF(C8<=29,"20-29",IF(C8<=39,"30-39",IF(C8<=49,"40-49","50+")))) | K8: =IF(C8="", "",IF(C8<=24,"20-24",IF(C8<=29,"25-29",IF(C8<=34,"30-34",IF(C8<=39,"35-39",IF(C8<=44,"40-44",IF(C8<=49,"45-49","50+"))))))) | L8: =IFERROR(IF(AND(H8>=0.4,F8>=0.06,G8>=0.06),"",IF(AND(F8<0.06, G8>=0.06),"Does not meet minimum row standard",IF(AND(G8<0.06, F8>=0.06),"Does not meet minimum run standard",IF(AND(F8<0.06, G8<0.06), "Does not meet minimum standard", "Does not meet minimum average")))), "")
F9: {=IF(OR(B9="", C9="", D9=""),"",IFERROR(INDEX('Data Tables'!F9:'Data Tables'!I813, MATCH(1, (B9='Data Tables'!G9:G813)*(J9='Data Tables'!F9:F813)*(_xlfn.NUMBERVALUE(D9)<=_xlfn.NUMBERVALUE('Data Tables'!I9:I813)),0),3), "Error!"))} | G9: {=IF(OR(B9="",C9="", E9=""),"",IFERROR(INDEX('Data Tables'!A9:D1457,MATCH(1,(B9='Data Tables'!B9:B1457)*(K9='Data Tables'!A9:A1457)*(_xlfn.NUMBERVALUE(E9)<=_xlfn.NUMBERVALUE('Data Tables'!D9:D1457)),0),3),"Error!"))} | H9: =IF(OR(F9="Error!",G9="Error!"),"",IF(OR(B9="",C9="",D9="",E9=""),"",(F9+G9)/2)) | I9: =IF(H9="", "", IF(AND(H9>=0.4, F9>= 0.06,G9>= 0.06), "Pass!", "Fail :(")) | J9: =IF(C9="","",IF(C9<=29,"20-29",IF(C9<=39,"30-39",IF(C9<=49,"40-49","50+")))) | K9: =IF(C9="", "",IF(C9<=24,"20-24",IF(C9<=29,"25-29",IF(C9<=34,"30-34",IF(C9<=39,"35-39",IF(C9<=44,"40-44",IF(C9<=49,"45-49","50+"))))))) | L9: =IFERROR(IF(AND(H9>=0.4,F9>=0.06,G9>=0.06),"",IF(AND(F9<0.06, G9>=0.06),"Does not meet minimum row standard",IF(AND(G9<0.06, F9>=0.06),"Does not meet minimum run standard",IF(AND(F9<0.06, G9<0.06), "Does not meet minimum standard", "Does not meet minimum average")))), "")
F10: {=IF(OR(B10="", C10="", D10=""),"",IFERROR(INDEX('Data Tables'!F10:'Data Tables'!I814, MATCH(1, (B10='Data Tables'!G10:G814)*(J10='Data Tables'!F10:F814)*(_xlfn.NUMBERVALUE(D10)<=_xlfn.NUMBERVALUE('Data Tables'!I10:I814)),0),3), "Error!"))} | G10: {=IF(OR(B10="",C10="", E10=""),"",IFERROR(INDEX('Data Tables'!A10:D1458,MATCH(1,(B10='Data Tables'!B10:B1458)*(K10='Data Tables'!A10:A1458)*(_xlfn.NUMBERVALUE(E10)<=_xlfn.NUMBERVALUE('Data Tables'!D10:D1458)),0),3),"Error!"))} | H10: =IF(OR(F10="Error!",G10="Error!"),"",IF(OR(B10="",C10="",D10="",E10=""),"",(F10+G10)/2)) | I10: =IF(H10="", "", IF(AND(H10>=0.4, F10>= 0.06,G10>= 0.06), "Pass!", "Fail :(")) | J10: =IF(C10="","",IF(C10<=29,"20-29",IF(C10<=39,"30-39",IF(C10<=49,"40-49","50+")))) | K10: =IF(C10="", "",IF(C10<=24,"20-24",IF(C10<=29,"25-29",IF(C10<=34,"30-34",IF(C10<=39,"35-39",IF(C10<=44,"40-44",IF(C10<=49,"45-49","50+"))))))) | L10: =IFERROR(IF(AND(H10>=0.4,F10>=0.06,G10>=0.06),"",IF(AND(F10<0.06, G10>=0.06),"Does not meet minimum row standard",IF(AND(G10<0.06, F10>=0.06),"Does not meet minimum run standard",IF(AND(F10<0.06, G10<0.06), "Does not meet minimum standard", "Does not meet minimum average")))), "")
F11: {=IF(OR(B11="", C11="", D11=""),"",IFERROR(INDEX('Data Tables'!F11:'Data Tables'!I815, MATCH(1, (B11='Data Tables'!G11:G815)*(J11='Data Tables'!F11:F815)*(_xlfn.NUMBERVALUE(D11)<=_xlfn.NUMBERVALUE('Data Tables'!I11:I815)),0),3), "Error!"))} | G11: {=IF(OR(B11="",C11="", E11=""),"",IFERROR(INDEX('Data Tables'!A11:D1459,MATCH(1,(B11='Data Tables'!B11:B1459)*(K11='Data Tables'!A11:A1459)*(_xlfn.NUMBERVALUE(E11)<=_xlfn.NUMBERVALUE('Data Tables'!D11:D1459)),0),3),"Error!"))} | H11: =IF(OR(F11="Error!",G11="Error!"),"",IF(OR(B11="",C11="",D11="",E11=""),"",(F11+G11)/2)) | I11: =IF(H11="", "", IF(AND(H11>=0.4, F11>= 0.06,G11>= 0.06), "Pass!", "Fail :(")) | J11: =IF(C11="","",IF(C11<=29,"20-29",IF(C11<=39,"30-39",IF(C11<=49,"40-49","50+")))) | K11: =IF(C11="", "",IF(C11<=24,"20-24",IF(C11<=29,"25-29",IF(C11<=34,"30-34",IF(C11<=39,"35-39",IF(C11<=44,"40-44",IF(C11<=49,"45-49","50+"))))))) | L11: =IFERROR(IF(AND(H11>=0.4,F11>=0.06,G11>=0.06),"",IF(AND(F11<0.06, G11>=0.06),"Does not meet minimum row standard",IF(AND(G11<0.06, F11>=0.06),"Does not meet minimum run standard",IF(AND(F11<0.06, G11<0.06), "Does not meet minimum standard", "Does not meet minimum average")))), "")
F12: {=IF(OR(B12="", C12="", D12=""),"",IFERROR(INDEX('Data Tables'!F12:'Data Tables'!I816, MATCH(1, (B12='Data Tables'!G12:G816)*(J12='Data Tables'!F12:F816)*(_xlfn.NUMBERVALUE(D12)<=_xlfn.NUMBERVALUE('Data Tables'!I12:I816)),0),3), "Error!"))} | G12: {=IF(OR(B12="",C12="", E12=""),"",IFERROR(INDEX('Data Tables'!A12:D1460,MATCH(1,(B12='Data Tables'!B12:B1460)*(K12='Data Tables'!A12:A1460)*(_xlfn.NUMBERVALUE(E12)<=_xlfn.NUMBERVALUE('Data Tables'!D12:D1460)),0),3),"Error!"))} | H12: =IF(OR(F12="Error!",G12="Error!"),"",IF(OR(B12="",C12="",D12="",E12=""),"",(F12+G12)/2)) | I12: =IF(H12="", "", IF(AND(H12>=0.4, F12>= 0.06,G12>= 0.06), "Pass!", "Fail :(")) | J12: =IF(C12="","",IF(C12<=29,"20-29",IF(C12<=39,"30-39",IF(C12<=49,"40-49","50+")))) | K12: =IF(C12="", "",IF(C12<=24,"20-24",IF(C12<=29,"25-29",IF(C12<=34,"30-34",IF(C12<=39,"35-39",IF(C12<=44,"40-44",IF(C12<=49,"45-49","50+"))))))) | L12: =IFERROR(IF(AND(H12>=0.4,F12>=0.06,G12>=0.06),"",IF(AND(F12<0.06, G12>=0.06),"Does not meet minimum row standard",IF(AND(G12<0.06, F12>=0.06),"Does not meet minimum run standard",IF(AND(F12<0.06, G12<0.06), "Does not meet minimum standard", "Does not meet minimum average")))), "")
F13: {=IF(OR(B13="", C13="", D13=""),"",IFERROR(INDEX('Data Tables'!F13:'Data Tables'!I817, MATCH(1, (B13='Data Tables'!G13:G817)*(J13='Data Tables'!F13:F817)*(_xlfn.NUMBERVALUE(D13)<=_xlfn.NUMBERVALUE('Data Tables'!I13:I817)),0),3), "Error!"))} | G13: {=IF(OR(B13="",C13="", E13=""),"",IFERROR(INDEX('Data Tables'!A13:D1461,MATCH(1,(B13='Data Tables'!B13:B1461)*(K13='Data Tables'!A13:A1461)*(_xlfn.NUMBERVALUE(E13)<=_xlfn.NUMBERVALUE('Data Tables'!D13:D1461)),0),3),"Error!"))} | H13: =IF(OR(F13="Error!",G13="Error!"),"",IF(OR(B13="",C13="",D13="",E13=""),"",(F13+G13)/2)) | I13: =IF(H13="", "", IF(AND(H13>=0.4, F13>= 0.06,G13>= 0.06), "Pass!", "Fail :(")) | J13: =IF(C13="","",IF(C13<=29,"20-29",IF(C13<=39,"30-39",IF(C13<=49,"40-49","50+")))) | K13: =IF(C13="", "",IF(C13<=24,"20-24",IF(C13<=29,"25-29",IF(C13<=34,"30-34",IF(C13<=39,"35-39",IF(C13<=44,"40-44",IF(C13<=49,"45-49","50+"))))))) | L13: =IFERROR(IF(AND(H13>=0.4,F13>=0.06,G13>=0.06),"",IF(AND(F13<0.06, G13>=0.06),"Does not meet minimum row standard",IF(AND(G13<0.06, F13>=0.06),"Does not meet minimum run standard",IF(AND(F13<0.06, G13<0.06), "Does not meet minimum standard", "Does not meet minimum average")))), "")
... F1001: {=IF(OR(B1001="", C1001="", D1001=""),"",IFERROR(INDEX('Data Tables'!F1001:'Data Tables'!I1805, MATCH(1, (B1001='Data Tables'!G1001:G1805)*(J1001='Data Tables'!F1001:F1805)*(_xlfn.NUMBERVALUE(D1001)<=_xlfn.NUMBERVALUE('Data Tables'!I1001:I1805)),0),3), "Error!"))} | G1001: {=IF(OR(B1001="",C1001="", E1001=""),"",IFERROR(INDEX('Data Tables'!A1001:D2449,MATCH(1,(B1001='Data Tables'!B1001:B2449)*(K1001='Data Tables'!A1001:A2449)*(_xlfn.NUMBERVALUE(E1001)<=_xlfn.NUMBERVALUE('Data Tables'!D1001:D2449)),0),3),"Error!"))} | H1001: =IF(OR(F1001="Error!",G1001="Error!"),"",IF(OR(B1001="",C1001="",D1001="",E1001=""),"",(F1001+G1001)/2)) | I1001: =IF(H1001="", "", IF(AND(H1001>=0.4, F1001>= 0.06,G1001>= 0.06), "Pass!", "Fail :(")) | J1001: =IF(C1001="","",IF(C1001<=29,"20-29",IF(C1001<=39,"30-39",IF(C1001<=49,"40-49","50+")))) | K1001: =IF(C1001="", "",IF(C1001<=24,"20-24",IF(C1001<=29,"25-29",IF(C1001<=34,"30-34",IF(C1001<=39,"35-39",IF(C1001<=44,"40-44",IF(C1001<=49,"45-49","50+"))))))) | L1001: =IFERROR(IF(AND(H1001>=0.4,F1001>=0.06,G1001>=0.06),"",IF(AND(F1001<0.06, G1001>=0.06),"Does not meet minimum row standard",IF(AND(G1001<0.06, F1001>=0.06),"Does not meet minimum run standard",IF(AND(F1001<0.06, G1001<0.06), "Does not meet minimum standard", "Does not meet minimum average")))), "")

Sheet Data Tables
A1: Run Times | F1: Row Times
A2: Age Group | B2: Gender | C2: Percentile | D2: Time | F2: Age Group | G2: Gender | H2: Percentile | I2: Time
A3: 20-24 | B3: Female | C3: 0.99 | D3: 10:22 | F3: 20-29 | G3: Male | H3: 0.99 | I3: 01:25
A4: 20-24 | B4: Female | C4: 0.98 | D4: 10:56 | F4: 20-29 | G4: Male | H4: 0.98 | I4: 01:26 | L4: Male
A5: 20-24 | B5: Female | C5: 0.97 | D5: 11:07 | F5: 20-29 | G5: Male | H5: 0.97 | I5: 01:27 | L5: Female
A6: 20-24 | B6: Female | C6: 0.96 | D6: 11:22 | F6: 20-29 | G6: Male | H6: 0.96 | I6: 01:27
A7: 20-24 | B7: Female | C7: 0.95 | D7: 11:36 | F7: 20-29 | G7: Male | H7: 0.95 | I7: 01:28
A8: 20-24 | B8: Female | C8: 0.94 | D8: 11:44 | F8: 20-29 | G8: Male | H8: 0.94 | I8: 01:28
A9: 20-24 | B9: Female | C9: 0.93 | D9: 11:57 | F9: 20-29 | G9: Male | H9: 0.93 | I9: 01:28
A10: 20-24 | B10: Female | C10: 0.92 | D10: 12:07 | F10: 20-29 | G10: Male | H10: 0.92 | I10: 01:29
A11: 20-24 | B11: Female | C11: 0.91 | D11: 12:18 | F11: 20-29 | G11: Male | H11: 0.91 | I11: 01:29
A12: 20-24 | B12: Female | C12: 0.9 | D12: 12:25 | F12: 20-29 | G12: Male | H12: 0.9 | I12: 01:29
A13: 20-24 | B13: Female | C13: 0.89 | D13: 12:33 | F13: 20-29 | G13: Male | H13: 0.89 | I13: 01:30
A14: 20-24 | B14: Female | C14: 0.88 | D14: 12:41 | F14: 20-29 | G14: Male | H14: 0.88 | I14: 01:30
A15: 20-24 | B15: Female | C15: 0.87 | D15: 12:48 | F15: 20-29 | G15: Male | H15: 0.87 | I15: 01:30
A16: 20-24 | B16: Female | C16: 0.86 | D16: 12:54 | F16: 20-29 | G16: Male | H16: 0.86 | I16: 01:30
A17: 20-24 | B17: Female | C17: 0.85 | D17: 12:59 | F17: 20-29 | G17: Male | H17: 0.85 | I17: 01:31
... A794: 35-39 | B794: Female | C794: 0.01 | D794: 25:51 | F794: 50+ | G794: Female | H794: 0.01 | I794: 02:55
A795: 40-44 | B795: Female | C795: 0.99 | D795: 11:11 | F795: 20-29 | G795: Male | H795: 0 | I795: 100:00 | J795: ***max values for formulas
A796: 40-44 | B796: Female | C796: 0.98 | D796: 11:41 | F796: 20-29 | G796: Female | H796: 0 | I796: 100:00
A797: 40-44 | B797: Female | C797: 0.97 | D797: 12:17 | F797: 30-39 | G797: Male | H797: 0 | I797: 100:00
A798: 40-44 | B798: Female | C798: 0.96 | D798: 12:43 | F798: 30-39 | G798: Female | H798: 0 | I798: 100:00
A799: 40-44 | B799: Female | C799: 0.95 | D799: 12:55 | F799: 40-49 | G799: Male | H799: 0 | I799: 100:00
A800: 40-44 | B800: Female | C800: 0.94 | D800: 13:40 | F800: 40-49 | G800: Female | H800: 0 | I800: 100:00
A801: 40-44 | B801: Female | C801: 0.93 | D801: 13:58 | F801: 50+ | G801: Male | H801: 0 | I801: 100:00
A802: 40-44 | B802: Female | C802: 0.92 | D802: 14:11 | F802: 50+ | G802: Female | H802: 0 | I802: 100:00
A803: 40-44 | B803: Female | C803: 0.91 | D803: 14:26
A804: 40-44 | B804: Female | C804: 0.9 | D804: 14:32
A805: 40-44 | B805: Female | C805: 0.89 | D805: 14:38
A806: 40-44 | B806: Female | C806: 0.88 | D806: 14:41
A807: 40-44 | B807: Female | C807: 0.87 | D807: 14:48
A808: 40-44 | B808: Female | C808: 0.86 | D808: 14:53
A809: 40-44 | B809: Female | C809: 0.85 | D809: 15:03
A810: 40-44 | B810: Female | C810: 0.84 | D810: 15:13
A811: 40-44 | B811: Female | C811: 0.83 | D811: 15:22
A812: 40-44 | B812: Female | C812: 0.82 | D812: 15:32
A813: 40-44 | B813: Female | C813: 0.81 | D813: 15:40
A814: 40-44 | B814: Female | C814: 0.8 | D814: 15:52
... A1388: 50+ | B1388: Male | C1388: 0.01 | D1388: 26:20
A1389: 20-24 | B1389: Male | C1389: 0 | D1389: 100:00 | E1389: ***max times needed for formulas
A1390: 20-24 | B1390: Female | C1390: 0 | D1390: 100:00
A1391: 25-29 | B1391: Male | C1391: 0 | D1391: 100:00
A1392: 25-29 | B1392: Female | C1392: 0 | D1392: 100:00
A1393: 30-34 | B1393: Male | C1393: 0 | D1393: 100:00
A1394: 30-34 | B1394: Female | C1394: 0 | D1394: 100:00
A1395: 35-39 | B1395: Male | C1395: 0 | D1395: 100:00
A1396: 35-39 | B1396: Female | C1396: 0 | D1396: 100:00
A1397: 40-44 | B1397: Male | C1397: 0 | D1397: 100:00
A1398: 40-44 | B1398: Female | C1398: 0 | D1398: 100:00
A1399: 45-50 | B1399: Male | C1399: 0 | D1399: 100:00
A1400: 45-50 | B1400: Female | C1400: 0 | D1400: 100:00
A1401: 50+ | B1401: Male | C1401: 0 | D1401: 100:00
A1402: 50+ | B1402: Female | C1402: 0 | D1402: 100:00
